BEGIN:VCALENDAR
VERSION:2.0
PRODID:-//Conseillère Stéphanie Plante - ECPv6.15.20//NONSGML v1.0//EN
CALSCALE:GREGORIAN
METHOD:PUBLISH
X-ORIGINAL-URL:https://stephanieplante.ca/fr
X-WR-CALDESC:Évènements pour Conseillère Stéphanie Plante
REFRESH-INTERVAL;VALUE=DURATION:PT1H
X-Robots-Tag:noindex
X-PUBLISHED-TTL:PT1H
BEGIN:VTIMEZONE
TZID:America/Toronto
BEGIN:DAYLIGHT
TZOFFSETFROM:-0500
TZOFFSETTO:-0400
TZNAME:EDT
DTSTART:20230312T070000
END:DAYLIGHT
BEGIN:STANDARD
TZOFFSETFROM:-0400
TZOFFSETTO:-0500
TZNAME:EST
DTSTART:20231105T060000
END:STANDARD
BEGIN:DAYLIGHT
TZOFFSETFROM:-0500
TZOFFSETTO:-0400
TZNAME:EDT
DTSTART:20240310T070000
END:DAYLIGHT
BEGIN:STANDARD
TZOFFSETFROM:-0400
TZOFFSETTO:-0500
TZNAME:EST
DTSTART:20241103T060000
END:STANDARD
BEGIN:DAYLIGHT
TZOFFSETFROM:-0500
TZOFFSETTO:-0400
TZNAME:EDT
DTSTART:20250309T070000
END:DAYLIGHT
BEGIN:STANDARD
TZOFFSETFROM:-0400
TZOFFSETTO:-0500
TZNAME:EST
DTSTART:20251102T060000
END:STANDARD
END:VTIMEZONE
BEGIN:VEVENT
DTSTART;TZID=America/Toronto:20241017T180000
DTEND;TZID=America/Toronto:20241017T200000
DTSTAMP:20260420T205425
CREATED:20241001T163452Z
LAST-MODIFIED:20241002T192509Z
UID:990000065-1729188000-1729195200@stephanieplante.ca
SUMMARY:Séance d’information publique : Voie cyclable du secteur du marché By à la Basse-Ville
DESCRIPTION:Le jeu. 17 oct. 2024\, de 18 h à 20 h\n\n\n\n\n\n\n\n\n\n\n\n\nÉcole secondaire publique De La Salle (Room 105 – Cafeteria)501\, rue Old St. Patrick\, OttawaPrésentation à 18 h \nLa Ville d’Ottawa vous invite à participer à une séance d’information publique pour discuter d’un projet d’amélioration de l’infrastructure qui aura lieu dans votre secteur. À 18 heures\, le personnel donnera une description du projet\, laquelle sera suivie d’une période de questions. Des plans préliminaires du projet seront affichés et des représentants de la Ville\, de la firme d’experts-conseils et du bureau de la conseillère du quartier seront sur place après la présentation pour répondre aux questions et recevoir des commentaires sur le projet. \nLa Ville d’Ottawa vous invite à examiner et à commenter les plans préliminaires du projet qui seront publiés ici après l’événement. Vous pouvez soumettre vos commentaires à l’aide du formulaire en ligne(lien externe)\, par courriel ou par téléphone aux personnes mentionnées ci-dessous entre le 17 octobre et le 31 octobre 2024. \nEn savoir plus.
URL:https://stephanieplante.ca/fr/event/seance-dinformation-publique-voie-cyclable-du-secteur-du-marche-by-a-la-basse-ville/
LOCATION:ON
CATEGORIES:Ville d'Ottawa
ATTACH;FMTTYPE=image/png:https://stephanieplante.ca/fr/wp-content/uploads/sites/2/2024/10/Screenshot-2024-10-01-at-11.54.54 AM.png
END:VEVENT
END:VCALENDAR