BEGIN:VCALENDAR
VERSION:2.0
PRODID:-//Conseillère Stéphanie Plante - ECPv6.15.20//NONSGML v1.0//EN
CALSCALE:GREGORIAN
METHOD:PUBLISH
X-WR-CALNAME:Conseillère Stéphanie Plante
X-ORIGINAL-URL:https://stephanieplante.ca/fr
X-WR-CALDESC:Évènements pour Conseillère Stéphanie Plante
REFRESH-INTERVAL;VALUE=DURATION:PT1H
X-Robots-Tag:noindex
X-PUBLISHED-TTL:PT1H
BEGIN:VTIMEZONE
TZID:America/Toronto
BEGIN:DAYLIGHT
TZOFFSETFROM:-0500
TZOFFSETTO:-0400
TZNAME:EDT
DTSTART:20230312T070000
END:DAYLIGHT
BEGIN:STANDARD
TZOFFSETFROM:-0400
TZOFFSETTO:-0500
TZNAME:EST
DTSTART:20231105T060000
END:STANDARD
BEGIN:DAYLIGHT
TZOFFSETFROM:-0500
TZOFFSETTO:-0400
TZNAME:EDT
DTSTART:20240310T070000
END:DAYLIGHT
BEGIN:STANDARD
TZOFFSETFROM:-0400
TZOFFSETTO:-0500
TZNAME:EST
DTSTART:20241103T060000
END:STANDARD
BEGIN:DAYLIGHT
TZOFFSETFROM:-0500
TZOFFSETTO:-0400
TZNAME:EDT
DTSTART:20250309T070000
END:DAYLIGHT
BEGIN:STANDARD
TZOFFSETFROM:-0400
TZOFFSETTO:-0500
TZNAME:EST
DTSTART:20251102T060000
END:STANDARD
END:VTIMEZONE
BEGIN:VEVENT
DTSTART;TZID=America/Toronto:20240829T183000
DTEND;TZID=America/Toronto:20240829T200000
DTSTAMP:20260420T210315
CREATED:20240814T174109Z
LAST-MODIFIED:20240906T162056Z
UID:990000052-1724956200-1724961600@stephanieplante.ca
SUMMARY:Séance d'info virtuelle : Zonage des quartiers
DESCRIPTION:Nous vous invitons à participer à la séance d’information virtuelle sur le zonage des quartiers qui aura lieu le jeudi 29 août 2024 de 18 h 30 à 20 h dans Zoom afin de discuter du nouveau Règlement de zonage d’Ottawa. La séance débutera par une présentation à l’échelle de la ville qui donnera un aperçu du nouveau règlement de zonage. À 19 heures\, après la présentation à l’échelle de la ville\, des salles de discussion spécifiques aux quartiers seront mises en place pour présenter et couvrir les sujets clés concernant les quartiers 12\, 13 et 15. Après une présentation spécifique à chaque quartier\, une séance de questions et réponses aura lieu dans chaque salle pour vous permettre de poser des questions et de partager vos idées sur le quartier concerné! \nInscrivez-vous tout de suite : https://us06web.zoom.us/meeting/register/tZwkd-ihqTksEtLMsgcP4HW23aJA6ZNJC-bB
URL:https://stephanieplante.ca/fr/event/seance-dinfo-virtuelle-zonage-des-quartiers/
LOCATION:Zoom
CATEGORIES:Ville d'Ottawa
END:VEVENT
END:VCALENDAR