BEGIN:VCALENDAR
VERSION:2.0
PRODID:-//Conseillère Stéphanie Plante - ECPv6.15.20//NONSGML v1.0//EN
CALSCALE:GREGORIAN
METHOD:PUBLISH
X-ORIGINAL-URL:https://stephanieplante.ca/fr
X-WR-CALDESC:Évènements pour Conseillère Stéphanie Plante
REFRESH-INTERVAL;VALUE=DURATION:PT1H
X-Robots-Tag:noindex
X-PUBLISHED-TTL:PT1H
BEGIN:VTIMEZONE
TZID:America/Toronto
BEGIN:DAYLIGHT
TZOFFSETFROM:-0500
TZOFFSETTO:-0400
TZNAME:EDT
DTSTART:20230312T070000
END:DAYLIGHT
BEGIN:STANDARD
TZOFFSETFROM:-0400
TZOFFSETTO:-0500
TZNAME:EST
DTSTART:20231105T060000
END:STANDARD
BEGIN:DAYLIGHT
TZOFFSETFROM:-0500
TZOFFSETTO:-0400
TZNAME:EDT
DTSTART:20240310T070000
END:DAYLIGHT
BEGIN:STANDARD
TZOFFSETFROM:-0400
TZOFFSETTO:-0500
TZNAME:EST
DTSTART:20241103T060000
END:STANDARD
BEGIN:DAYLIGHT
TZOFFSETFROM:-0500
TZOFFSETTO:-0400
TZNAME:EDT
DTSTART:20250309T070000
END:DAYLIGHT
BEGIN:STANDARD
TZOFFSETFROM:-0400
TZOFFSETTO:-0500
TZNAME:EST
DTSTART:20251102T060000
END:STANDARD
END:VTIMEZONE
BEGIN:VEVENT
DTSTART;TZID=America/Toronto:20240529T140000
DTEND;TZID=America/Toronto:20240529T160000
DTSTAMP:20260421T020316
CREATED:20240524T193230Z
LAST-MODIFIED:20240529T203841Z
UID:990000044-1716991200-1716998400@stephanieplante.ca
SUMMARY:Portes Ouvertes - Centre communautaire et piscine de la Basse-Ville
DESCRIPTION:Nous sommes ravis d’annoncer que nous organisons un événement portes ouvertes au centre communautaire et piscine de la Basse-ville. Nous serions honorés si vous pouviez nous rejoindre. Cet événement est une excellente occasion d’explorer nos installations\, de participer à diverses activités et de rencontrer la communauté dynamique qui rend notre centre spécial.
URL:https://stephanieplante.ca/fr/event/portes-ouvertes/2024-05-29/
LOCATION:Centre communautaire et piscine de la Basse-ville\, 40 Cobourg Street\, Ottawa\, Ontario
CATEGORIES:Ville d'Ottawa
ATTACH;FMTTYPE=image/jpeg:https://stephanieplante.ca/fr/wp-content/uploads/sites/2/2024/05/Open-House-Poster-FR.jpg
END:VEVENT
BEGIN:VEVENT
DTSTART;TZID=America/Toronto:20240531T170000
DTEND;TZID=America/Toronto:20240531T190000
DTSTAMP:20260421T020316
CREATED:20240524T193230Z
LAST-MODIFIED:20240529T203841Z
UID:990000045-1717174800-1717182000@stephanieplante.ca
SUMMARY:Portes Ouvertes - Centre communautaire et piscine de la Basse-Ville
DESCRIPTION:Nous sommes ravis d’annoncer que nous organisons un événement portes ouvertes au centre communautaire et piscine de la Basse-ville. Nous serions honorés si vous pouviez nous rejoindre. Cet événement est une excellente occasion d’explorer nos installations\, de participer à diverses activités et de rencontrer la communauté dynamique qui rend notre centre spécial.
URL:https://stephanieplante.ca/fr/event/portes-ouvertes/2024-05-31/
LOCATION:Centre communautaire et piscine de la Basse-ville\, 40 Cobourg Street\, Ottawa\, Ontario
CATEGORIES:Ville d'Ottawa
ATTACH;FMTTYPE=image/jpeg:https://stephanieplante.ca/fr/wp-content/uploads/sites/2/2024/05/Open-House-Poster-FR.jpg
END:VEVENT
END:VCALENDAR