BEGIN:VCALENDAR
VERSION:2.0
PRODID:-//Conseillère Stéphanie Plante - ECPv6.15.20//NONSGML v1.0//EN
CALSCALE:GREGORIAN
METHOD:PUBLISH
X-ORIGINAL-URL:https://stephanieplante.ca/fr
X-WR-CALDESC:Évènements pour Conseillère Stéphanie Plante
REFRESH-INTERVAL;VALUE=DURATION:PT1H
X-Robots-Tag:noindex
X-PUBLISHED-TTL:PT1H
BEGIN:VTIMEZONE
TZID:America/Toronto
BEGIN:DAYLIGHT
TZOFFSETFROM:-0500
TZOFFSETTO:-0400
TZNAME:EDT
DTSTART:20250309T070000
END:DAYLIGHT
BEGIN:STANDARD
TZOFFSETFROM:-0400
TZOFFSETTO:-0500
TZNAME:EST
DTSTART:20251102T060000
END:STANDARD
BEGIN:DAYLIGHT
TZOFFSETFROM:-0500
TZOFFSETTO:-0400
TZNAME:EDT
DTSTART:20260308T070000
END:DAYLIGHT
BEGIN:STANDARD
TZOFFSETFROM:-0400
TZOFFSETTO:-0500
TZNAME:EST
DTSTART:20261101T060000
END:STANDARD
BEGIN:DAYLIGHT
TZOFFSETFROM:-0500
TZOFFSETTO:-0400
TZNAME:EDT
DTSTART:20270314T070000
END:DAYLIGHT
BEGIN:STANDARD
TZOFFSETFROM:-0400
TZOFFSETTO:-0500
TZNAME:EST
DTSTART:20271107T060000
END:STANDARD
END:VTIMEZONE
BEGIN:VEVENT
DTSTART;TZID=America/Toronto:20260208T140000
DTEND;TZID=America/Toronto:20260208T160000
DTSTAMP:20260421T140709
CREATED:20260112T183619Z
LAST-MODIFIED:20260119T162911Z
UID:990000112-1770559200-1770566400@stephanieplante.ca
SUMMARY:Drag Bingo
DESCRIPTION:Les billets sont désormais en vente pour notre Drag Bingo annuel au profit de Saint Brigid ! Procurez-vous vos billets dès maintenant\, ils partent toujours très vite ! \nBillets disponibles sur Eventbrite
URL:https://stephanieplante.ca/fr/event/sauvez-la-date-drag-bingo/
LOCATION:Brigid’s Well\, 310 St. Patrick St\, Ottawa\, ON\, K1N 5K4\, Canada
CATEGORIES:Conseillère
ATTACH;FMTTYPE=image/png:https://stephanieplante.ca/fr/wp-content/uploads/sites/2/2026/01/French.png
END:VEVENT
END:VCALENDAR