BEGIN:VCALENDAR
VERSION:2.0
PRODID:-//Conseillère Stéphanie Plante - ECPv6.15.20//NONSGML v1.0//EN
CALSCALE:GREGORIAN
METHOD:PUBLISH
X-ORIGINAL-URL:https://stephanieplante.ca/fr
X-WR-CALDESC:Évènements pour Conseillère Stéphanie Plante
REFRESH-INTERVAL;VALUE=DURATION:PT1H
X-Robots-Tag:noindex
X-PUBLISHED-TTL:PT1H
BEGIN:VTIMEZONE
TZID:America/Toronto
BEGIN:DAYLIGHT
TZOFFSETFROM:-0500
TZOFFSETTO:-0400
TZNAME:EDT
DTSTART:20240310T070000
END:DAYLIGHT
BEGIN:STANDARD
TZOFFSETFROM:-0400
TZOFFSETTO:-0500
TZNAME:EST
DTSTART:20241103T060000
END:STANDARD
BEGIN:DAYLIGHT
TZOFFSETFROM:-0500
TZOFFSETTO:-0400
TZNAME:EDT
DTSTART:20250309T070000
END:DAYLIGHT
BEGIN:STANDARD
TZOFFSETFROM:-0400
TZOFFSETTO:-0500
TZNAME:EST
DTSTART:20251102T060000
END:STANDARD
BEGIN:DAYLIGHT
TZOFFSETFROM:-0500
TZOFFSETTO:-0400
TZNAME:EDT
DTSTART:20260308T070000
END:DAYLIGHT
BEGIN:STANDARD
TZOFFSETFROM:-0400
TZOFFSETTO:-0500
TZNAME:EST
DTSTART:20261101T060000
END:STANDARD
END:VTIMEZONE
BEGIN:VEVENT
DTSTART;TZID=America/Toronto:20251118T190000
DTEND;TZID=America/Toronto:20251118T210000
DTSTAMP:20260421T094123
CREATED:20251029T182937Z
LAST-MODIFIED:20251029T183106Z
UID:990000103-1763492400-1763499600@stephanieplante.ca
SUMMARY:Consultation du Quartier 12 - Budget 2026
DESCRIPTION:En savoir plus sur le budget provisoire 2026 \nCliquez ici pour les consultations menées par les conseillères – Lien Zoom
URL:https://stephanieplante.ca/fr/event/consultation-du-quartier-12-budget-2026/
LOCATION:Zoom
CATEGORIES:Conseillère
ATTACH;FMTTYPE=image/svg+xml:https://stephanieplante.ca/fr/wp-content/uploads/sites/2/2025/09/Ottawa_City_of.svg
END:VEVENT
END:VCALENDAR