BEGIN:VCALENDAR
VERSION:2.0
PRODID:-//Conseillère Stéphanie Plante - ECPv6.15.20//NONSGML v1.0//EN
CALSCALE:GREGORIAN
METHOD:PUBLISH
X-WR-CALNAME:Conseillère Stéphanie Plante
X-ORIGINAL-URL:https://stephanieplante.ca/fr
X-WR-CALDESC:Évènements pour Conseillère Stéphanie Plante
REFRESH-INTERVAL;VALUE=DURATION:PT1H
X-Robots-Tag:noindex
X-PUBLISHED-TTL:PT1H
BEGIN:VTIMEZONE
TZID:America/Toronto
BEGIN:DAYLIGHT
TZOFFSETFROM:-0500
TZOFFSETTO:-0400
TZNAME:EDT
DTSTART:20240310T070000
END:DAYLIGHT
BEGIN:STANDARD
TZOFFSETFROM:-0400
TZOFFSETTO:-0500
TZNAME:EST
DTSTART:20241103T060000
END:STANDARD
BEGIN:DAYLIGHT
TZOFFSETFROM:-0500
TZOFFSETTO:-0400
TZNAME:EDT
DTSTART:20250309T070000
END:DAYLIGHT
BEGIN:STANDARD
TZOFFSETFROM:-0400
TZOFFSETTO:-0500
TZNAME:EST
DTSTART:20251102T060000
END:STANDARD
BEGIN:DAYLIGHT
TZOFFSETFROM:-0500
TZOFFSETTO:-0400
TZNAME:EDT
DTSTART:20260308T070000
END:DAYLIGHT
BEGIN:STANDARD
TZOFFSETFROM:-0400
TZOFFSETTO:-0500
TZNAME:EST
DTSTART:20261101T060000
END:STANDARD
END:VTIMEZONE
BEGIN:VEVENT
DTSTART;TZID=America/Toronto:20250222T143000
DTEND;TZID=America/Toronto:20250222T170000
DTSTAMP:20260420T060233
CREATED:20250204T213305Z
LAST-MODIFIED:20250303T154720Z
UID:990000085-1740234600-1740243600@stephanieplante.ca
SUMMARY:Forum sur les transports en commun de Rideau - Vanier
DESCRIPTION:Tarifs trop élevés? \nLes autobus toujours en retard? \nPas de place pour s’asseoir? \nRejoignez-nous pour discuter comment nous pouvons résoudre ces problèmes ensemble!
URL:https://stephanieplante.ca/fr/event/forum-sur-les-transports-en-commun-de-rideau-vanier/
LOCATION:Centre de services communautaires de Vanier\, 270 rue Marier\, Vanier\, ON\, K1L 5P8\, Canada
CATEGORIES:Communauté
ATTACH;FMTTYPE=image/png:https://stephanieplante.ca/fr/wp-content/uploads/sites/2/2025/02/1000014098.png
END:VEVENT
END:VCALENDAR