BEGIN:VCALENDAR
VERSION:2.0
PRODID:-//Conseillère Stéphanie Plante - ECPv6.15.20//NONSGML v1.0//EN
CALSCALE:GREGORIAN
METHOD:PUBLISH
X-WR-CALNAME:Conseillère Stéphanie Plante
X-ORIGINAL-URL:https://stephanieplante.ca/fr
X-WR-CALDESC:Évènements pour Conseillère Stéphanie Plante
REFRESH-INTERVAL;VALUE=DURATION:PT1H
X-Robots-Tag:noindex
X-PUBLISHED-TTL:PT1H
BEGIN:VTIMEZONE
TZID:America/Toronto
BEGIN:DAYLIGHT
TZOFFSETFROM:-0500
TZOFFSETTO:-0400
TZNAME:EDT
DTSTART:20230312T070000
END:DAYLIGHT
BEGIN:STANDARD
TZOFFSETFROM:-0400
TZOFFSETTO:-0500
TZNAME:EST
DTSTART:20231105T060000
END:STANDARD
BEGIN:DAYLIGHT
TZOFFSETFROM:-0500
TZOFFSETTO:-0400
TZNAME:EDT
DTSTART:20240310T070000
END:DAYLIGHT
BEGIN:STANDARD
TZOFFSETFROM:-0400
TZOFFSETTO:-0500
TZNAME:EST
DTSTART:20241103T060000
END:STANDARD
BEGIN:DAYLIGHT
TZOFFSETFROM:-0500
TZOFFSETTO:-0400
TZNAME:EDT
DTSTART:20250309T070000
END:DAYLIGHT
BEGIN:STANDARD
TZOFFSETFROM:-0400
TZOFFSETTO:-0500
TZNAME:EST
DTSTART:20251102T060000
END:STANDARD
END:VTIMEZONE
BEGIN:VEVENT
DTSTART;TZID=America/Toronto:20240526T083000
DTEND;TZID=America/Toronto:20240526T133000
DTSTAMP:20260420T054857
CREATED:20240521T175855Z
LAST-MODIFIED:20240524T191116Z
UID:990000043-1716712200-1716730200@stephanieplante.ca
SUMMARY:Poste d’encouragement : Fin de semaine des courses d'Ottawa Tamarack
DESCRIPTION:Joignez-vous à la Conseillère Stéphanie Plante pour encourager les coureuses et les coureurs participant au Fin de semaine des courses d’Ottawa! \nVenez partager vos bonnes vibrations et vos morceaux préférés pour une matinée remplie d’énergie. Nous serons dehors pendant plusieurs heures\, alors pensez à apporter de l’eau\, des collations et de la crème solaire. Venez avec votre chaise de camping si vous en avez une. \nNous serons postés à l’angle de Sussex et Murray\, près de la marque de 38 km. Repérez la tente de la députée Lucille Collard et la bannière de la conseillère Plante! Aidez-nous à faire de notre poste d’encouragement le plus dynamique de tout le marathon. \nPlanifiez en avance pour les clôtures de rue. Le marathon commence à 7H00. Nous serons installés à 8H30. RSVP à carina.pogoler@ottawa.ca.
URL:https://stephanieplante.ca/fr/event/poste-dencouragement-marathon-international-dottawa-tartan/
LOCATION:Ontario
CATEGORIES:Communauté
ATTACH;FMTTYPE=image/jpeg:https://stephanieplante.ca/fr/wp-content/uploads/sites/2/2024/05/IMG_0239-scaled.jpg
END:VEVENT
END:VCALENDAR