BEGIN:VCALENDAR
VERSION:2.0
PRODID:-//Councillor Stéphanie Plante - ECPv6.15.20//NONSGML v1.0//EN
CALSCALE:GREGORIAN
METHOD:PUBLISH
X-WR-CALNAME:Councillor Stéphanie Plante
X-ORIGINAL-URL:https://stephanieplante.ca
X-WR-CALDESC:Events for Councillor Stéphanie Plante
REFRESH-INTERVAL;VALUE=DURATION:PT1H
X-Robots-Tag:noindex
X-PUBLISHED-TTL:PT1H
BEGIN:VTIMEZONE
TZID:America/Toronto
BEGIN:DAYLIGHT
TZOFFSETFROM:-0500
TZOFFSETTO:-0400
TZNAME:EDT
DTSTART:20250309T070000
END:DAYLIGHT
BEGIN:STANDARD
TZOFFSETFROM:-0400
TZOFFSETTO:-0500
TZNAME:EST
DTSTART:20251102T060000
END:STANDARD
BEGIN:DAYLIGHT
TZOFFSETFROM:-0500
TZOFFSETTO:-0400
TZNAME:EDT
DTSTART:20260308T070000
END:DAYLIGHT
BEGIN:STANDARD
TZOFFSETFROM:-0400
TZOFFSETTO:-0500
TZNAME:EST
DTSTART:20261101T060000
END:STANDARD
BEGIN:DAYLIGHT
TZOFFSETFROM:-0500
TZOFFSETTO:-0400
TZNAME:EDT
DTSTART:20270314T070000
END:DAYLIGHT
BEGIN:STANDARD
TZOFFSETFROM:-0400
TZOFFSETTO:-0500
TZNAME:EST
DTSTART:20271107T060000
END:STANDARD
END:VTIMEZONE
BEGIN:VEVENT
DTSTART;TZID=America/Toronto:20260424T140000
DTEND;TZID=America/Toronto:20260424T160000
DTSTAMP:20260424T053211
CREATED:20260109T200101Z
LAST-MODIFIED:20260109T200101Z
UID:990001310-1777039200-1777046400@stephanieplante.ca
SUMMARY:Ward Hours - Chelia Bakery
DESCRIPTION:Come meet your City Councillor\, Stephanie Plante\, to talk about the city issues that are most important to you! No need to make a reservation. Just drop in between 2:00 and 4:00 pm. Light refreshments will be provided. \n 
URL:https://stephanieplante.ca/event/ward-hours-chelia-bakery/
LOCATION:Chelia Bakery\, 99 Mann Ave\, Ottawa\, ON\, K1N 5A4\, Canada
CATEGORIES:Councillor
ATTACH;FMTTYPE=image/svg+xml:https://stephanieplante.ca/wp-content/uploads/2025/02/sp-brand-logo-2.svg
END:VEVENT
END:VCALENDAR